BEGIN:VCALENDAR
VERSION:2.0
PRODID:https://github.com/derhansen/sf_event_mgt
METHOD:PUBLISH
BEGIN:VEVENT
UID:132-962@www.bigs-mv.de
CLASS: PUBLIC
SUMMARY:Betreuungskräfte nach § 53 b SGB XI - Kurs 26_04
DESCRIPTION:Zunehmend mehr ältere Menschen leiden unter eingeschränkten All
 tagsfähigkeiten. Manche leben allein in ihrer Wohnung und leiden zusätzlich
  unter ihrer Einsamkeit und mangelnden sozialen Kontakten. Andere leben mit
  Ehe- oder Lebenspartnern zusammen und stellen für diese eine deutliche un
 d dauerhafte Belastung dar. Nicht alle dieser Senioren sind pflegebedürfti
 g und brauchen eine spezialisierte Betreuung.\n\nGefragt ist jedoch eine ge
 legentliche oder regelmäßige Unterstützung, damit alt gewordene Menschen i
 n ihrer vertrauten Umgebung bleiben können und betreuende Angehörige entlas
 tet werden. Dazu ist es nötig, dass ihnen jemand kompetent zur Seite steht 
 und neben sozialer Begleitung auch praktische Lebenshilfe leistet.\n\nZiel 
 der AusbildungMit diesem Grundkurs bieten wir Helfern und ehrenamtlichen Se
 niorenbegleitern eine Möglichkeit Grundwissen für Betreuung und Begleitung
  alter Menschen mit eingeschränkten Alltagsfähigkeiten zu erwerben. Neben d
 er Vermittlung grundlegender Inhalte zum Thema Demenz sowie zur Betreuung u
 nd Begleitung legen wir Wert auf den Austausch zwischen und mit den Teilneh
 mern sowie die Vermittlung von Selbstmanagement-Kompetenz zur Verhinderung 
 von Überforderung und Burn-out.\n\nInhalte der Ausbildung (Auszug)\n\nMensc
 hen mit eingeschränkter Alltagskompetenz verstehen können - Grundlegende In
 formationen zum Krankheitsbild DemenzGeschichte lebendig werden lassen - Bi
 ographie- und ErinnerungsarbeitAlltag fördernd gestalten – Bewegung und Bes
 chäftigungMit Abschied und Verlust umgehen – Trauerarbeit und Kommunikation
 Schwierige Situationen und Beziehungen bewältigen – KonfliktmanagementMit d
 er eigenen Kraft haushalten – Selbstpflege und Burn-out-ProphylaxeDie Zukun
 ft vorbereiten – Rechtliche Grundlagen für Patientenverfügung und Vorsorg
 evollmachtVerhalten in Krisen und Notfallsituationen\n\nDiese Weiterbildung
  entspricht den Anforderung der Richtlinien nach § 53c Abs. 3 SGB XI zur Qu
 alifikation und zu den Aufgaben von zusätzlichen Betreuungskräften in Pfleg
 eheimen TeilnehmerInnen der Ausbildung Menschen, die Lust haben, Senioren i
 n ihrem Alltag zu unterstützen, aber nicht in dem klassischen Feld der Pfl
 ege tätig sein wollen oder können.\n\nVoraussetzung sind:\n\nZuverlässigkei
 t, Kontaktfreudigkeit,Kommunikations- und Organisationsgeschick.\n\nWünsch
 enswert sind:\n\nErfahrung in der ehrenamtlichen oder beruflichen Begleitun
 g und Betreuung alter Menschen.\n\nOrganisation der Ausbildung160 Stunden (
 á 45 Minuten) theoretischer Unterricht in Seminarform in BlöckenBeginn 16.0
 3.2026Gesamte Terminplanung siehe Anlage \n\nDie Inhalte werden von kompete
 nten Dozenten und Trainern (u.a. Pflegekräfte, Psychologen, Juristen) vermi
 ttelt.\n\nDie Ausbildung wird mit einem schriftlichen Kenntnis-Nachweis abg
 eschlossen.\n\nFür den Beginn eines Kurses setzen wir mindestens 8 Anmeldu
 ngen voraus.\n\nFinanzierungDie Kosten für den Kurs betragen pro Teilnehme
 rIn 1.500,00 €.\n\n 
DTSTAMP:20260205T101647Z
DTSTART:20260316T073000Z
DTEND:20260511T134500Z
END:VEVENT
END:VCALENDAR
