BEGIN:VCALENDAR
VERSION:2.0
PRODID:https://github.com/derhansen/sf_event_mgt
METHOD:PUBLISH
BEGIN:VEVENT
UID:2359-961@www.bigs-mv.de
CLASS: PUBLIC
SUMMARY:Praxisanleiter - UPDATE: aktuelle Trends und Best Practices in der 
 praktischen Ausbildung
DESCRIPTION:
LOCATION:BiGS
DTSTAMP:20251029T102307Z
DTSTART:20261005T070000Z
DTEND:20261007T133000Z
END:VEVENT
END:VCALENDAR
