BEGIN:VCALENDAR
VERSION:2.0
PRODID:https://github.com/derhansen/sf_event_mgt
METHOD:PUBLISH
BEGIN:VEVENT
UID:2330-961@www.bigs-mv.de
CLASS: PUBLIC
SUMMARY:ONLINEFORMAT Potenzialentwicklung von Auszubildenden - Säen, Pflege
 n und Ernten von Talenten
DESCRIPTION:
LOCATION:BiGS
DTSTAMP:20260330T084619Z
DTSTART:20260630T070000Z
DTEND:20260630T133000Z
END:VEVENT
END:VCALENDAR
