BEGIN:VCALENDAR
VERSION:2.0
PRODID:https://github.com/derhansen/sf_event_mgt
METHOD:PUBLISH
BEGIN:VEVENT
UID:2302-961@www.bigs-mv.de
CLASS: PUBLIC
SUMMARY:Update Führung - Tag 2
DESCRIPTION:
LOCATION:BiGS
DTSTAMP:20251029T101143Z
DTSTART:20261029T080000Z
DTEND:20261029T143000Z
END:VEVENT
END:VCALENDAR
