BEGIN:VCALENDAR
VERSION:2.0
PRODID:https://github.com/derhansen/sf_event_mgt
METHOD:PUBLISH
BEGIN:VEVENT
UID:2300-961@www.bigs-mv.de
CLASS: PUBLIC
SUMMARY:Update Führung - Tag 1
DESCRIPTION:
LOCATION:BiGS
DTSTAMP:20251029T101106Z
DTSTART:20261028T080000Z
DTEND:20261028T143000Z
END:VEVENT
END:VCALENDAR
