BEGIN:VCALENDAR
VERSION:2.0
PRODID:https://github.com/derhansen/sf_event_mgt
METHOD:PUBLISH
BEGIN:VEVENT
UID:2344-961@www.bigs-mv.de
CLASS: PUBLIC
SUMMARY:Pflichtfortbildung Betreuungskräfte (2 Tage)
DESCRIPTION:
LOCATION:BiGS
DTSTAMP:20250616T082155Z
DTSTART:20250724T070000Z
DTEND:20250725T133000Z
END:VEVENT
END:VCALENDAR
