BEGIN:VCALENDAR
VERSION:2.0
PRODID:https://github.com/derhansen/sf_event_mgt
METHOD:PUBLISH
BEGIN:VEVENT
UID:2296-961@www.bigs-mv.de
CLASS: PUBLIC
SUMMARY:Fachsprache in der Pflege - Kommunikation & Dokumentation professio
 nell gestalten
DESCRIPTION:
LOCATION:BiGS
DTSTAMP:20251029T085732Z
DTSTART:20260423T110000Z
DTEND:20260423T131500Z
END:VEVENT
END:VCALENDAR
