BEGIN:VCALENDAR
VERSION:2.0
PRODID:https://github.com/derhansen/sf_event_mgt
METHOD:PUBLISH
BEGIN:VEVENT
UID:2345-961@www.bigs-mv.de
CLASS: PUBLIC
SUMMARY:Pflichtfortbildung Betreuungskräfte - Biografiearbeit und Validatio
 n in der Betreuung
DESCRIPTION:
LOCATION:BiGS
DTSTAMP:20250616T081504Z
DTSTART:20250724T070000Z
DTEND:20250724T133000Z
END:VEVENT
END:VCALENDAR
