BEGIN:VCALENDAR
VERSION:2.0
PRODID:https://github.com/derhansen/sf_event_mgt
METHOD:PUBLISH
BEGIN:VEVENT
UID:2383-961@www.bigs-mv.de
CLASS: PUBLIC
SUMMARY:Straftatbestände in der Pflege
DESCRIPTION:
LOCATION:BiGS
DTSTAMP:20250116T132135Z
DTSTART:20251111T080000Z
DTEND:20251111T130000Z
END:VEVENT
END:VCALENDAR
