BEGIN:VCALENDAR
VERSION:2.0
PRODID:https://github.com/derhansen/sf_event_mgt
METHOD:PUBLISH
BEGIN:VEVENT
UID:2368-961@www.bigs-mv.de
CLASS: PUBLIC
SUMMARY:Expertenstandards Tag 1
DESCRIPTION:
LOCATION:BiGS
DTSTAMP:20251029T102752Z
DTSTART:20261021T070000Z
DTEND:20261021T133000Z
END:VEVENT
END:VCALENDAR
