BEGIN:VCALENDAR
VERSION:2.0
PRODID:https://github.com/derhansen/sf_event_mgt
METHOD:PUBLISH
BEGIN:VEVENT
UID:2329-961@www.bigs-mv.de
CLASS: PUBLIC
SUMMARY:Zwischen Menschlichkeit & Professionalität - Kommunikation im Pfleg
 eberuf
DESCRIPTION:
LOCATION:BiGS
DTSTAMP:20251029T095416Z
DTSTART:20260619T070000Z
DTEND:20260619T140000Z
END:VEVENT
END:VCALENDAR
