BEGIN:VCALENDAR
VERSION:2.0
PRODID:https://github.com/derhansen/sf_event_mgt
METHOD:PUBLISH
BEGIN:VEVENT
UID:2369-961@www.bigs-mv.de
CLASS: PUBLIC
SUMMARY:Expertenstandards Tag 2
DESCRIPTION:
LOCATION:BiGS
DTSTAMP:20251029T102841Z
DTSTART:20261022T070000Z
DTEND:20261022T133000Z
END:VEVENT
END:VCALENDAR
