BEGIN:VCALENDAR
VERSION:2.0
PRODID:https://github.com/derhansen/sf_event_mgt
METHOD:PUBLISH
BEGIN:VEVENT
UID:2367-961@www.bigs-mv.de
CLASS: PUBLIC
SUMMARY:Expertenstandards im Fokus - Fachliche Qualität und Innovation in d
 er Praxis
DESCRIPTION:
LOCATION:BiGS
DTSTAMP:20251029T102658Z
DTSTART:20261021T070000Z
DTEND:20261022T133000Z
END:VEVENT
END:VCALENDAR
